BEGIN:VCALENDAR
VERSION:2.0
PRODID:-//Little Harrowden Parish Council//Meeting Calendar//EN
CALSCALE:GREGORIAN
METHOD:PUBLISH
BEGIN:VEVENT
UID:71298-20250910@littleharrowdenparishcouncil.gov.uk
DTSTAMP:20260421T080639Z
DTSTART;VALUE=DATE:20250910
DTEND;VALUE=DATE:20250911
SUMMARY:Ordinary Council Meeting Wednesday 10th September
DESCRIPTION:Full Council Meeting\nView details: https://littleharrowdenparishcouncil.gov.uk/meetings/ordinary-council-meeting-wednesday-10th-september/
URL:https://littleharrowdenparishcouncil.gov.uk/meetings/ordinary-council-meeting-wednesday-10th-september/
END:VEVENT
END:VCALENDAR
